BEGIN:VCALENDAR
VERSION:2.0
PRODID:-//I.U.I.T.C.S - ECPv6.9.0//NONSGML v1.0//EN
CALSCALE:GREGORIAN
METHOD:PUBLISH
X-WR-CALNAME:I.U.I.T.C.S
X-ORIGINAL-URL:https://www.iuitcs.org
X-WR-CALDESC:Events for I.U.I.T.C.S
REFRESH-INTERVAL;VALUE=DURATION:PT1H
X-Robots-Tag:noindex
X-PUBLISHED-TTL:PT1H
BEGIN:VTIMEZONE
TZID:Europe/Helsinki
BEGIN:DAYLIGHT
TZOFFSETFROM:+0200
TZOFFSETTO:+0300
TZNAME:EEST
DTSTART:20240331T010000
END:DAYLIGHT
BEGIN:STANDARD
TZOFFSETFROM:+0300
TZOFFSETTO:+0200
TZNAME:EET
DTSTART:20241027T010000
END:STANDARD
TZID:UTC
BEGIN:STANDARD
TZOFFSETFROM:+0000
TZOFFSETTO:+0000
TZNAME:UTC
DTSTART:20240101T000000
END:STANDARD
END:VTIMEZONE
BEGIN:VEVENT
DTSTART;TZID=Europe/Helsinki:20241108T200000
DTEND;TZID=Europe/Helsinki:20241109T200000
DTSTAMP:20260422T043934
CREATED:20240929T071910Z
LAST-MODIFIED:20241110T075114Z
UID:533-1731096000-1731182400@www.iuitcs.org
SUMMARY:Launch of the First Series of On-Line Scientific Lectures by the I.U.I.T.C.S.
DESCRIPTION:We are honored to announce the launch of the first series of lectures organised by our Union\, aimed at providing participants with an interdisciplinary and transdisciplinary approach to essential topics of the science. \nThese courses will be delivered by experts with vast experience and expertise in the field\, ensuring a high level of theoretical and practical knowledge. \nPlease check section “NEWS” for consulting the first month program and more details. \nWe offer you a flavor of what our sessions will contain:   \nSunday 10 NOV at 17.00 (Romanian time) \nFrom the SERIES Interdisciplinarity and Transdisciplinarity in Complex Systems\, current/modern aspects specific to the 21st century: Interdisciplinarity and transdisciplinarity in complex systems – contemporary aspects. \nThe lecture will be presented in approximatively one hour. \nDeadline for subscription: 31 October 2024.   \nWednesday 13 NOV at 20.00 (Romanian time) \n\nFrom the SERIES – Interdisciplinarity in Sociology – “Interdisciplinarity of Social Communication Contexts/ Interdisciplinary of social communication contexts – Rich\, diverse interdisciplinarity in paroemias and euphemisms” \nSaturday 23 NOV at 17.00 (Romanian time)  \n\n\n\nFrom the SERIES – Interdisciplinarity in Nuclear Physics and Radioprotection  –“Fundamental Interdisciplinary Aspects of Environmental Radioprotection and Nuclear Emergence” \nParticipation is 30 EUR for each selected session.  The participation for the Union members and collaborators is free.  \nAccount IBAN for payment: BE86 3630 9543 9350\, opened at ING Bank of Belgium NV/SA \nStay tuned for more details on registration—coming soon! You will be awarded by the IUITCS with a Certificate. This will serve as proof of your participation with the view of improvement in the knowledge relative to scientific interdisciplinarity and transdisciplinarity in complex systems – contemporary aspects. .  
URL:https://www.iuitcs.org/event/launch-of-the-first-series-of-on-line-scientific-lectures-by-the-i-u-i-t-c-s/
END:VEVENT
BEGIN:VEVENT
DTSTART;TZID=Europe/Helsinki:20241105T110000
DTEND;TZID=Europe/Helsinki:20241105T140000
DTSTAMP:20260422T043934
CREATED:20240918T063612Z
LAST-MODIFIED:20241104T194751Z
UID:528-1730804400-1730815200@www.iuitcs.org
SUMMARY:INTERNATIONAL CONFERENCE – SEMINAR\, “Scientific interdisciplinarity and transdisciplinarity in the current era. The 21st century approaches.”
DESCRIPTION:  \nWATCH IN STREAMING! \nLINK: meet.google.com/ozt-mdyd-ezn \nNovember 5\, 2024\, from 11:00 AM to 2:00 PM (Bucharest time)\, conference-seminar organized by the International Union for Interdisciplinarity and Transdisciplinarity in Complex Systems\, headquartered in Belgium. “Scientific Interdisciplinarity and Transdisciplinarity in Complex Systems – 21st Century Approaches.”  \nWe warmly invite you to attend! \nWith a focus on interdisciplinary and transdisciplinary concerns\, the event will clarify these concepts and showcase select works\, all within the framework of complex systems. \n11:00 – 11:10 Opening remarks from the President and Vicepresident \nEvent Program Highlights: \n11 :10 – 11:35 Instrumental Micro-Recital: Violinist Albert Cristea from the Dinu Lipatti National College\, Bucharest\, accompanied on piano by Professor Cătălin Răducanu\, will perform: \n\nWolfgang Amadeus Mozart: Violin Concerto No. 5 in A Major\, KV 219\,\nMovement I with Cadenza by Joseph Joachim;\nHenri Wieniawski: Fantaisie Brillante on Themes from Charles François\nGounod’s Opera “Faust.”\n\nPresentations and Authors: \n11:40 – 12:00 \n1. Interdisciplinarity and Transdisciplinarity in Complex Systems – Contemporary\nAspects\nSpeaker: Sorin Baiculescu\, International Union for Interdisciplinarity and\nTransdisciplinarity in Complex Systems (IUITCS) – Belgium\, Romanian Committee\nfor the History and Philosophy of Science and Technology (CRIFST)\, Division of\nLogic\, Methodology\, and Philosophy of Science (DLMFS)\, Romanian\nInterdisciplinary Research Group (GCI) – Romanian Academy; French Society of\nPhilosophy (SFP). \n12:00 – 12:20 \n2. Leveraging Artificial Intelligence for Cultural and Creative Sectors: Interdisciplinary\nand Transdisciplinary Approaches for Challenges\, Opportunities\, and Policy\nRecommendations\nSpeaker: Adriana Godeanu Metz\, International Union for Interdisciplinarity and\nTransdisciplinarity in Complex Systems (IUITCS) – Belgium. \n12:20 – 12:40 \n3. The Cultural-Creative Economy: Complexity\, Transdisciplinarity\, and\nInterdisciplinarity in Modern Economic Science\nSpeaker: Marta Christina Suciu\, Doctoral School of Economics\, Bucharest Academy\nof Economic Studies; CRIFST – Romanian Academy\, Romanian Academy of\nScientists; IUITCS – Belgium. \n12:40 – 13:00 \n4. Transdisciplinarity (Basarab Nicolescu\, Heisenberg\, Edgar Morin) and\nAcademic/Scientific Skepticism Toward “Subjectivity” (E. Morin). A Discussion\nSpeaker: Henrieta Șerban\, “Constantin Rădulescu-Motru” Institute of Philosophy and\nPsychology\, “Ion I. C. Brătianu” Institute of Political Science and International\nRelations – Romanian Academy; IUITCS – Belgium. \n13:00 – 13:20 \n5. Artificial Intelligence for Business: A Once-in-a-Lifetime Opportunity\nSpeaker: Cerasela Baiculescu\, IBM Romania &amp; Moldova. \n13:20 – 13:40 \n6. None of the Poets’ or Philosophers’ Cats Speak: Notes on Post-Anthropocentrism\nSpeaker: Viorella Manolache\, “Ion I. C. Brătianu” Institute of Political Science and\nInternational Relations – Romanian Academy. \n13:40 – 14:00 \n7. Considerations on the Philosophical Language of Basarab Nicolescu \nSpeaker: Cristian Andreescu\, Division of Logic\, Methodology\, and Philosophy of\nScience (DLMFS) – Romanian Academy. \n\nParticipation: Attendance at the conference\n-seminar is by invitation only.\nPresentation Time: Each talk will be allotted 15 minutes\, with an additional 5\nminutes for discussion.\nFee: No participation fee will be charged to attendees
URL:https://www.iuitcs.org/event/nternational-conference-seminar-scientific-interdisciplinarity-and-transdisciplinarity-in-the-current-era-the-21st-century-approaches/
END:VEVENT
BEGIN:VEVENT
DTSTART;TZID=UTC:20241104T080000
DTEND;TZID=UTC:20241104T170000
DTSTAMP:20260422T043934
CREATED:20241104T194204Z
LAST-MODIFIED:20241105T090038Z
UID:607-1730707200-1730739600@www.iuitcs.org
SUMMARY:NEW: STREAMING Scientific Interdisciplinarity and Transdisciplinarity in Complex Systems – 21st Century Approaches
DESCRIPTION:WATCH IN STREAMING! \nLINK: LIVE MNLR 2024 (youtube.com) \nNovember 5\, 2024\, from 11:00 AM to 2:00 PM (Bucharest time)\, conference-seminar organized by the International Union for Interdisciplinarity and Transdisciplinarity in Complex Systems\, headquartered in Belgium. “Scientific Interdisciplinarity and Transdisciplinarity in Complex Systems – 21st Century Approaches.”  \nWe warmly invite you to attend!
URL:https://www.iuitcs.org/event/607/
END:VEVENT
END:VCALENDAR