BEGIN:VCALENDAR
VERSION:2.0
PRODID:-//I.U.I.T.C.S - ECPv6.9.0//NONSGML v1.0//EN
CALSCALE:GREGORIAN
METHOD:PUBLISH
X-ORIGINAL-URL:https://www.iuitcs.org
X-WR-CALDESC:Events for I.U.I.T.C.S
REFRESH-INTERVAL;VALUE=DURATION:PT1H
X-Robots-Tag:noindex
X-PUBLISHED-TTL:PT1H
BEGIN:VTIMEZONE
TZID:UTC
BEGIN:STANDARD
TZOFFSETFROM:+0000
TZOFFSETTO:+0000
TZNAME:UTC
DTSTART:20240101T000000
END:STANDARD
END:VTIMEZONE
BEGIN:VEVENT
DTSTART;TZID=UTC:20241220T080000
DTEND;TZID=UTC:20241220T170000
DTSTAMP:20260421T152028
CREATED:20241220T092727Z
LAST-MODIFIED:20241220T093007Z
UID:645-1734681600-1734714000@www.iuitcs.org
SUMMARY:Bridging Boundaries: Season's Greetings and Best Wishes for 2025!
DESCRIPTION:Dear Friends\, Colleagues\, and Partners\, \nAs another year comes to a close\, we are reminded that the most profound solutions emerge at the intersections—of ideas\, disciplines\, and perspectives. Much like the intricate systems we explore\, this season is a time when connections bring warmth\, collaboration creates meaning\, and harmony transcends complexity.\nIn the spirit of interdisciplinarity and transdisciplinarity\, we extend our heartfelt thanks for your invaluable contributions and trust. Together\, we have built bridges across boundaries\, tackled challenges\, and nurtured innovation in complex systems.\nMay this festive season bring you balance\, joy\, and inspiration. As we step into 2025\, let us continue to embrace challenges with creativity and look toward a future shaped by unity\, understanding\, and shared purpose. \nWith warm regards and appreciation\, \nThe Board and the entire team at I.U.I.T.C.S. extend their warmest wishes for the holiday season and a successful New Year!
URL:https://www.iuitcs.org/event/bridging-boundaries-seasons-greetings-and-best-wishes-for-2025/
END:VEVENT
END:VCALENDAR